BEGIN:VCALENDAR
VERSION:2.0
PRODID:-//Life and Landscapes® - ECPv6.15.20//NONSGML v1.0//EN
CALSCALE:GREGORIAN
METHOD:PUBLISH
X-WR-CALNAME:Life and Landscapes®
X-ORIGINAL-URL:https://vanstockum.blog
X-WR-CALDESC:Events for Life and Landscapes®
REFRESH-INTERVAL;VALUE=DURATION:PT1H
X-Robots-Tag:noindex
X-PUBLISHED-TTL:PT1H
BEGIN:VTIMEZONE
TZID:America/New_York
BEGIN:DAYLIGHT
TZOFFSETFROM:-0500
TZOFFSETTO:-0400
TZNAME:EDT
DTSTART:20180311T070000
END:DAYLIGHT
BEGIN:STANDARD
TZOFFSETFROM:-0400
TZOFFSETTO:-0500
TZNAME:EST
DTSTART:20181104T060000
END:STANDARD
BEGIN:DAYLIGHT
TZOFFSETFROM:-0500
TZOFFSETTO:-0400
TZNAME:EDT
DTSTART:20190310T070000
END:DAYLIGHT
BEGIN:STANDARD
TZOFFSETFROM:-0400
TZOFFSETTO:-0500
TZNAME:EST
DTSTART:20191103T060000
END:STANDARD
BEGIN:DAYLIGHT
TZOFFSETFROM:-0500
TZOFFSETTO:-0400
TZNAME:EDT
DTSTART:20200308T070000
END:DAYLIGHT
BEGIN:STANDARD
TZOFFSETFROM:-0400
TZOFFSETTO:-0500
TZNAME:EST
DTSTART:20201101T060000
END:STANDARD
BEGIN:DAYLIGHT
TZOFFSETFROM:-0500
TZOFFSETTO:-0400
TZNAME:EDT
DTSTART:20210314T070000
END:DAYLIGHT
BEGIN:STANDARD
TZOFFSETFROM:-0400
TZOFFSETTO:-0500
TZNAME:EST
DTSTART:20211107T060000
END:STANDARD
BEGIN:DAYLIGHT
TZOFFSETFROM:-0500
TZOFFSETTO:-0400
TZNAME:EDT
DTSTART:20220313T070000
END:DAYLIGHT
BEGIN:STANDARD
TZOFFSETFROM:-0400
TZOFFSETTO:-0500
TZNAME:EST
DTSTART:20221106T060000
END:STANDARD
BEGIN:DAYLIGHT
TZOFFSETFROM:-0500
TZOFFSETTO:-0400
TZNAME:EDT
DTSTART:20230312T070000
END:DAYLIGHT
BEGIN:STANDARD
TZOFFSETFROM:-0400
TZOFFSETTO:-0500
TZNAME:EST
DTSTART:20231105T060000
END:STANDARD
BEGIN:DAYLIGHT
TZOFFSETFROM:-0500
TZOFFSETTO:-0400
TZNAME:EDT
DTSTART:20240310T070000
END:DAYLIGHT
BEGIN:STANDARD
TZOFFSETFROM:-0400
TZOFFSETTO:-0500
TZNAME:EST
DTSTART:20241103T060000
END:STANDARD
BEGIN:DAYLIGHT
TZOFFSETFROM:-0500
TZOFFSETTO:-0400
TZNAME:EDT
DTSTART:20250309T070000
END:DAYLIGHT
BEGIN:STANDARD
TZOFFSETFROM:-0400
TZOFFSETTO:-0500
TZNAME:EST
DTSTART:20251102T060000
END:STANDARD
END:VTIMEZONE
BEGIN:VEVENT
DTSTART;TZID=America/New_York:20240824T150000
DTEND;TZID=America/New_York:20240824T170000
DTSTAMP:20260422T095559
CREATED:20240804T225647Z
LAST-MODIFIED:20240804T225647Z
UID:12851-1724511600-1724518800@vanstockum.blog
SUMMARY:The New Reggie Van Stockum Show!
DESCRIPTION:The “New Reggie Van Stockum Show” with a Musical Combo\, \nMarty Rosen interviewing Dr. Jack Wann\, \nand a Magic Show with Magician Jimmy McKnight! \n  \nSaturday afternoon\, August 24\, 2024\, \n3-5 PM at Paulie Felice’s Studio 223 \n408 6th St\, Shelbyville\, KY 40065 \nJust down from the 6th and Main  Coffeehouse. \nIt’s free\, bring your friends! \n  \nwww.vanstockum.blog/lookin   \n#reggievanstockum #reggiesrealm \n#kentucky #kentuckyauthor #reginaldbareham \nFacebook.com/reginaldbareham\,\nInstagram @reggievanstockum\,\nYouTube @reggievanstockum1097\,\nSpotify- Reggie Van Stockum\,\nApple- Music Reggie Van Stockum\,\nVimeo.com/user700850\,
URL:https://vanstockum.blog/event/the-new-reggie-van-stockum-show/
CATEGORIES:Performance
ATTACH;FMTTYPE=image/jpeg:https://vanstockum.blog/wp-content/uploads/2024/08/Studio-223.jpeg
END:VEVENT
BEGIN:VEVENT
DTSTART;TZID=America/New_York:20220210T080000
DTEND;TZID=America/New_York:20220213T170000
DTSTAMP:20260422T095559
CREATED:20210628T224918Z
LAST-MODIFIED:20210628T224918Z
UID:9350-1644480000-1644771600@vanstockum.blog
SUMMARY:Jubilee Barndance: A New Musical
DESCRIPTION:Written by Jack Wann and Ronald R. Van Stockum\, Jr. to be premiered at the Shelby County Community Theater
URL:https://vanstockum.blog/event/jubilee-barndance-a-new-musical-2/
LOCATION:Shelbyville Community Theater\, 801 Main St\, Shelbyville\, KY\, 40065\, United States
CATEGORIES:Performance
END:VEVENT
BEGIN:VEVENT
DTSTART;TZID=America/New_York:20220203T080000
DTEND;TZID=America/New_York:20220206T170000
DTSTAMP:20260422T095559
CREATED:20210628T224516Z
LAST-MODIFIED:20210628T224615Z
UID:9346-1643875200-1644166800@vanstockum.blog
SUMMARY:Jubilee Barndance: A New Musical
DESCRIPTION:Written by Jack Wann and Ronald R. Van Stockum\, Jr. to be premiered at the Shelby County Community Theater
URL:https://vanstockum.blog/event/jubilee-barndance-a-new-musical/
LOCATION:Shelbyville Community Theater\, 801 Main St\, Shelbyville\, KY\, 40065\, United States
CATEGORIES:Performance
END:VEVENT
BEGIN:VEVENT
DTSTART;TZID=America/New_York:20210916T080000
DTEND;TZID=America/New_York:20210916T170000
DTSTAMP:20260422T095559
CREATED:20210530T152939Z
LAST-MODIFIED:20210530T152939Z
UID:9313-1631779200-1631811600@vanstockum.blog
SUMMARY:Shelby County Library presentation on "Surrounding Mammoth Cave"
DESCRIPTION:
URL:https://vanstockum.blog/event/shelby-county-library-presentation-on-surrounding-mammoth-cave/
LOCATION:Shelby County Public Library\, 309 Eighth Street\, Shelbyville\, KY\, 40065\, United States
CATEGORIES:Performance
END:VEVENT
BEGIN:VEVENT
DTSTART;TZID=America/New_York:20200508T080000
DTEND;TZID=America/New_York:20200517T170000
DTSTAMP:20260422T095559
CREATED:20200211T195416Z
LAST-MODIFIED:20200211T195416Z
UID:6735-1588924800-1589734800@vanstockum.blog
SUMMARY:Witness for the Prosecution
DESCRIPTION:
URL:https://vanstockum.blog/event/witness-for-the-prosecution/
LOCATION:Shelbyville Community Theater\, 801 Main St\, Shelbyville\, KY\, 40065\, United States
CATEGORIES:Performance
END:VEVENT
BEGIN:VEVENT
DTSTART;TZID=America/New_York:20200201T193000
DTEND;TZID=America/New_York:20200201T213000
DTSTAMP:20260422T095559
CREATED:20190620T180706Z
LAST-MODIFIED:20190620T184907Z
UID:693-1580585400-1580592600@vanstockum.blog
SUMMARY:Shelby County Community Theater Variety Show Produced by Reggie Van Stockum
DESCRIPTION:
URL:https://vanstockum.blog/event/shelby-county-community-theater-variety-show-produced-by-reggie-van-stockum/
LOCATION:Shelbyville Community Theater\, 801 Main St\, Shelbyville\, KY\, 40065\, United States
CATEGORIES:Performance
END:VEVENT
BEGIN:VEVENT
DTSTART;TZID=America/New_York:20191025T193000
DTEND;TZID=America/New_York:20191025T213000
DTSTAMP:20260422T095559
CREATED:20190620T175831Z
LAST-MODIFIED:20190620T185441Z
UID:678-1572031800-1572039000@vanstockum.blog
SUMMARY:Tartuff
DESCRIPTION:For two weekends.
URL:https://vanstockum.blog/event/tartuff/
LOCATION:Shelbyville Community Theater\, 801 Main St\, Shelbyville\, KY\, 40065\, United States
CATEGORIES:Performance
END:VEVENT
BEGIN:VEVENT
DTSTART;TZID=America/New_York:20190921T080000
DTEND;TZID=America/New_York:20190921T120000
DTSTAMP:20260422T095559
CREATED:20190918T161902Z
LAST-MODIFIED:20190918T161902Z
UID:3050-1569052800-1569067200@vanstockum.blog
SUMMARY:Shelby County Farmer's Market
DESCRIPTION:I will be playing music from nine to noon. Come to the Shelby County Fairgrounds for your fresh produce!
URL:https://vanstockum.blog/event/shelby-county-farmers-market/
LOCATION:Shelby County Kentucky Fairgrounds\, 1513 Midland Trail\, Shelbyville\, KY\, 40065\, United States
CATEGORIES:Performance
ATTACH;FMTTYPE=image/jpeg:https://vanstockum.blog/wp-content/uploads/2018/11/unadjustednonraw_thumb_20f31.jpg
END:VEVENT
BEGIN:VEVENT
DTSTART;TZID=America/New_York:20190719T193000
DTEND;TZID=America/New_York:20190719T213000
DTSTAMP:20260422T095559
CREATED:20190620T175129Z
LAST-MODIFIED:20190620T185703Z
UID:666-1563564600-1563571800@vanstockum.blog
SUMMARY:Mamma Mia!
DESCRIPTION:For two weekends.
URL:https://vanstockum.blog/event/mamma-mia/
LOCATION:Shelbyville Community Theater\, 801 Main St\, Shelbyville\, KY\, 40065\, United States
CATEGORIES:Performance
END:VEVENT
BEGIN:VEVENT
DTSTART;TZID=America/New_York:20190712T193000
DTEND;TZID=America/New_York:20190712T213000
DTSTAMP:20260422T095559
CREATED:20190620T174624Z
LAST-MODIFIED:20190620T185648Z
UID:660-1562959800-1562967000@vanstockum.blog
SUMMARY:Shakesperience! Showcase
DESCRIPTION:
URL:https://vanstockum.blog/event/shakesperience-showcase/
LOCATION:Shelbyville Community Theater\, 801 Main St\, Shelbyville\, KY\, 40065\, United States
CATEGORIES:Performance
END:VEVENT
END:VCALENDAR